BEGIN:VCALENDAR
VERSION:2.0
PRODID:-//OFOA - ECPv6.15.15//NONSGML v1.0//EN
CALSCALE:GREGORIAN
METHOD:PUBLISH
X-ORIGINAL-URL:https://staging.occoquanforest.org
X-WR-CALDESC:Events for OFOA
REFRESH-INTERVAL;VALUE=DURATION:PT1H
X-Robots-Tag:noindex
X-PUBLISHED-TTL:PT1H
BEGIN:VTIMEZONE
TZID:America/New_York
BEGIN:DAYLIGHT
TZOFFSETFROM:-0500
TZOFFSETTO:-0400
TZNAME:EDT
DTSTART:20240310T070000
END:DAYLIGHT
BEGIN:STANDARD
TZOFFSETFROM:-0400
TZOFFSETTO:-0500
TZNAME:EST
DTSTART:20241103T060000
END:STANDARD
BEGIN:DAYLIGHT
TZOFFSETFROM:-0500
TZOFFSETTO:-0400
TZNAME:EDT
DTSTART:20250309T070000
END:DAYLIGHT
BEGIN:STANDARD
TZOFFSETFROM:-0400
TZOFFSETTO:-0500
TZNAME:EST
DTSTART:20251102T060000
END:STANDARD
BEGIN:DAYLIGHT
TZOFFSETFROM:-0500
TZOFFSETTO:-0400
TZNAME:EDT
DTSTART:20260308T070000
END:DAYLIGHT
BEGIN:STANDARD
TZOFFSETFROM:-0400
TZOFFSETTO:-0500
TZNAME:EST
DTSTART:20261101T060000
END:STANDARD
END:VTIMEZONE
BEGIN:VEVENT
DTSTART;TZID=America/New_York:20251108T080000
DTEND;TZID=America/New_York:20251108T130000
DTSTAMP:20260420T165649
CREATED:20251109T131256Z
LAST-MODIFIED:20251109T131256Z
UID:459-1762588800-1762606800@staging.occoquanforest.org
SUMMARY:November Trail Maintenance
DESCRIPTION:
URL:https://staging.occoquanforest.org/event/november-trail-maintenance/
LOCATION:Pavilion\, 10800 Split Rail Dr\, Manassas\, VA\, 20112\, United States
END:VEVENT
BEGIN:VEVENT
DTSTART;TZID=America/New_York:20251109T190000
DTEND;TZID=America/New_York:20251109T200000
DTSTAMP:20260420T165649
CREATED:20251109T015212Z
LAST-MODIFIED:20251109T021638Z
UID:445-1762714800-1762718400@staging.occoquanforest.org
SUMMARY:November Board Meeting
DESCRIPTION:
URL:https://staging.occoquanforest.org/event/november-board-meeting/
LOCATION:Pavilion\, 10800 Split Rail Dr\, Manassas\, VA\, 20112\, United States
CATEGORIES:Board Meetings
END:VEVENT
END:VCALENDAR